
BEGIN:VCALENDAR
VERSION:2.0
PRODID:-//Dexter Wellness Center - ECPv6.15.20//NONSGML v1.0//EN
CALSCALE:GREGORIAN
METHOD:PUBLISH
X-ORIGINAL-URL:https://www.dexterwellness.org
X-WR-CALDESC:Events for Dexter Wellness Center
REFRESH-INTERVAL;VALUE=DURATION:PT1H
X-Robots-Tag:noindex
X-PUBLISHED-TTL:PT1H
BEGIN:VTIMEZONE
TZID:America/New_York
BEGIN:DAYLIGHT
TZOFFSETFROM:-0500
TZOFFSETTO:-0400
TZNAME:EDT
DTSTART:20200308T070000
END:DAYLIGHT
BEGIN:STANDARD
TZOFFSETFROM:-0400
TZOFFSETTO:-0500
TZNAME:EST
DTSTART:20201101T060000
END:STANDARD
BEGIN:DAYLIGHT
TZOFFSETFROM:-0500
TZOFFSETTO:-0400
TZNAME:EDT
DTSTART:20210314T070000
END:DAYLIGHT
BEGIN:STANDARD
TZOFFSETFROM:-0400
TZOFFSETTO:-0500
TZNAME:EST
DTSTART:20211107T060000
END:STANDARD
BEGIN:DAYLIGHT
TZOFFSETFROM:-0500
TZOFFSETTO:-0400
TZNAME:EDT
DTSTART:20220313T070000
END:DAYLIGHT
BEGIN:STANDARD
TZOFFSETFROM:-0400
TZOFFSETTO:-0500
TZNAME:EST
DTSTART:20221106T060000
END:STANDARD
BEGIN:DAYLIGHT
TZOFFSETFROM:-0500
TZOFFSETTO:-0400
TZNAME:EDT
DTSTART:20230312T070000
END:DAYLIGHT
BEGIN:STANDARD
TZOFFSETFROM:-0400
TZOFFSETTO:-0500
TZNAME:EST
DTSTART:20231105T060000
END:STANDARD
END:VTIMEZONE
BEGIN:VEVENT
DTSTART;TZID=America/New_York:20220108T083000
DTEND;TZID=America/New_York:20220108T093000
DTSTAMP:20260419T121413
CREATED:20220102T152556Z
LAST-MODIFIED:20220609T150322Z
UID:52002-1641630600-1641634200@www.dexterwellness.org
SUMMARY:Group Cycling
DESCRIPTION:Experience a fun and exciting stationary bike ride for all levels of fitness.  You will be coached and motivated through a simulated bicycling journey. If you are a beginner\, you must arrive 10 minutes early for proper set-up.  Heart rate monitors recommended!
URL:https://www.dexterwellness.org/event/group-cycling-7/2022-01-08/
LOCATION:Cycling Studio
CATEGORIES:Cycling
END:VEVENT
BEGIN:VEVENT
DTSTART;TZID=America/New_York:20211223T180000
DTEND;TZID=America/New_York:20211223T190000
DTSTAMP:20260419T121413
CREATED:20211212T165001Z
LAST-MODIFIED:20211213T150823Z
UID:51630-1640282400-1640286000@www.dexterwellness.org
SUMMARY:Group Cycling
DESCRIPTION:Experience a fun and exciting stationary bike ride for all levels of fitness.  You will be coached and motivated through a simulated bicycling journey. If you are a beginner\, you must arrive 10 minutes early for proper set-up.  Heart rate monitors recommended
URL:https://www.dexterwellness.org/event/group-cycling-6/
LOCATION:Cycling Studio
CATEGORIES:Cycling
END:VEVENT
BEGIN:VEVENT
DTSTART;TZID=America/New_York:20211009T083000
DTEND;TZID=America/New_York:20211009T093000
DTSTAMP:20260419T121413
CREATED:20211004T193130Z
LAST-MODIFIED:20220102T152229Z
UID:50958-1633768200-1633771800@www.dexterwellness.org
SUMMARY:Group Cycling
DESCRIPTION:Experience a fun and exciting stationary bike ride for all levels of fitness.  You will be coached and motivated through a simulated bicycling journey. If you are a beginner\, you must arrive 10 minutes early for proper set-up.  Heart rate monitors recommended!
URL:https://www.dexterwellness.org/event/group-cycling-4/2021-10-09/
LOCATION:Cycling Studio
CATEGORIES:Cycling
END:VEVENT
END:VCALENDAR